BEGIN:VCALENDAR
VERSION:2.0
PRODID:-//Rumphorstviertel e.V. - ECPv6.15.20//NONSGML v1.0//EN
CALSCALE:GREGORIAN
METHOD:PUBLISH
X-ORIGINAL-URL:https://rumphorstviertel.de
X-WR-CALDESC:Veranstaltungen für Rumphorstviertel e.V.
REFRESH-INTERVAL;VALUE=DURATION:PT1H
X-Robots-Tag:noindex
X-PUBLISHED-TTL:PT1H
BEGIN:VTIMEZONE
TZID:Europe/Berlin
BEGIN:DAYLIGHT
TZOFFSETFROM:+0100
TZOFFSETTO:+0200
TZNAME:CEST
DTSTART:20250330T010000
END:DAYLIGHT
BEGIN:STANDARD
TZOFFSETFROM:+0200
TZOFFSETTO:+0100
TZNAME:CET
DTSTART:20251026T010000
END:STANDARD
BEGIN:DAYLIGHT
TZOFFSETFROM:+0100
TZOFFSETTO:+0200
TZNAME:CEST
DTSTART:20260329T010000
END:DAYLIGHT
BEGIN:STANDARD
TZOFFSETFROM:+0200
TZOFFSETTO:+0100
TZNAME:CET
DTSTART:20261025T010000
END:STANDARD
BEGIN:DAYLIGHT
TZOFFSETFROM:+0100
TZOFFSETTO:+0200
TZNAME:CEST
DTSTART:20270328T010000
END:DAYLIGHT
BEGIN:STANDARD
TZOFFSETFROM:+0200
TZOFFSETTO:+0100
TZNAME:CET
DTSTART:20271031T010000
END:STANDARD
END:VTIMEZONE
BEGIN:VEVENT
DTSTART;TZID=Europe/Berlin:20260508T150000
DTEND;TZID=Europe/Berlin:20260508T160000
DTSTAMP:20260419T232640
CREATED:20260409T041617Z
LAST-MODIFIED:20260409T041617Z
UID:5434-1778252400-1778256000@rumphorstviertel.de
SUMMARY:Komm wir sprechen einfach Deutsch
DESCRIPTION:Dieses Angebot richtet sich an Teilnehmer\, die mindestens einen A2 Abschluss haben. \nIn lockerer Runde versuchen wir gemeinsam die Sprachbarrieren abzubauen und die deutsche Sprache näher zu bringen.
URL:https://rumphorstviertel.de/event/komm-wir-sprechen-einfach-deutsch-5/
LOCATION:Parea Paulinum Münster-Nord\, Anton Bruchhausen Straße 10\, Münster
ORGANIZER;CN="Parea gGmbH M%C3%BCnster Nord":MAILTO:kerstin.herbst@parea.de und sonja.kuhlbusch@parea.de
END:VEVENT
END:VCALENDAR