BEGIN:VCALENDAR
VERSION:2.0
PRODID:-//Rumphorstviertel e.V. - ECPv6.15.20//NONSGML v1.0//EN
CALSCALE:GREGORIAN
METHOD:PUBLISH
X-ORIGINAL-URL:https://rumphorstviertel.de
X-WR-CALDESC:Veranstaltungen für Rumphorstviertel e.V.
REFRESH-INTERVAL;VALUE=DURATION:PT1H
X-Robots-Tag:noindex
X-PUBLISHED-TTL:PT1H
BEGIN:VTIMEZONE
TZID:Europe/Berlin
BEGIN:DAYLIGHT
TZOFFSETFROM:+0100
TZOFFSETTO:+0200
TZNAME:CEST
DTSTART:20250330T010000
END:DAYLIGHT
BEGIN:STANDARD
TZOFFSETFROM:+0200
TZOFFSETTO:+0100
TZNAME:CET
DTSTART:20251026T010000
END:STANDARD
BEGIN:DAYLIGHT
TZOFFSETFROM:+0100
TZOFFSETTO:+0200
TZNAME:CEST
DTSTART:20260329T010000
END:DAYLIGHT
BEGIN:STANDARD
TZOFFSETFROM:+0200
TZOFFSETTO:+0100
TZNAME:CET
DTSTART:20261025T010000
END:STANDARD
BEGIN:DAYLIGHT
TZOFFSETFROM:+0100
TZOFFSETTO:+0200
TZNAME:CEST
DTSTART:20270328T010000
END:DAYLIGHT
BEGIN:STANDARD
TZOFFSETFROM:+0200
TZOFFSETTO:+0100
TZNAME:CET
DTSTART:20271031T010000
END:STANDARD
END:VTIMEZONE
BEGIN:VEVENT
DTSTART;TZID=Europe/Berlin:20260422T153000
DTEND;TZID=Europe/Berlin:20260422T163000
DTSTAMP:20260419T214123
CREATED:20260409T033816Z
LAST-MODIFIED:20260409T033816Z
UID:5386-1776871800-1776875400@rumphorstviertel.de
SUMMARY:Infonachmittag Malteser Hilfsdienst - Hausnotruf
DESCRIPTION:Infonachmittag Malteser Hilfsdienst:\n\nrundum gut versorgt\n\nalles über Hausnotruf uvm.\n\n\n\nDas Angebot ist kostenfrei.
URL:https://rumphorstviertel.de/event/infonachmittag-malteser-hilfsdienst-hausnotruf/
LOCATION:Parea Paulinum Münster-Nord\, Anton Bruchhausen Straße 10\, Münster
ORGANIZER;CN="Parea gGmbH M%C3%BCnster Nord":MAILTO:kerstin.herbst@parea.de und sonja.kuhlbusch@parea.de
END:VEVENT
BEGIN:VEVENT
DTSTART;TZID=Europe/Berlin:20260422T173000
DTEND;TZID=Europe/Berlin:20260422T190000
DTSTAMP:20260419T214123
CREATED:20260409T033653Z
LAST-MODIFIED:20260409T041457Z
UID:5384-1776879000-1776884400@rumphorstviertel.de
SUMMARY:Arbeitskreistreffen des Rumphorstviertel e.V.
DESCRIPTION:Planungstreffen für laufende und neue Projekte\, Gespräche\, neue Kontakte\, neue Ideen
URL:https://rumphorstviertel.de/event/arbeitskreistreffen-des-rumphorstviertel-e-v/
LOCATION:Stadtteiltreff Hoher Heckenweg 81\, Hoher Heckenweg 81\, Münster
END:VEVENT
END:VCALENDAR