BEGIN:VCALENDAR
VERSION:2.0
PRODID:-//Rumphorstviertel e.V. - ECPv6.15.20//NONSGML v1.0//EN
CALSCALE:GREGORIAN
METHOD:PUBLISH
X-WR-CALNAME:Rumphorstviertel e.V.
X-ORIGINAL-URL:https://rumphorstviertel.de
X-WR-CALDESC:Veranstaltungen für Rumphorstviertel e.V.
REFRESH-INTERVAL;VALUE=DURATION:PT1H
X-Robots-Tag:noindex
X-PUBLISHED-TTL:PT1H
BEGIN:VTIMEZONE
TZID:Europe/Berlin
BEGIN:DAYLIGHT
TZOFFSETFROM:+0100
TZOFFSETTO:+0200
TZNAME:CEST
DTSTART:20250330T010000
END:DAYLIGHT
BEGIN:STANDARD
TZOFFSETFROM:+0200
TZOFFSETTO:+0100
TZNAME:CET
DTSTART:20251026T010000
END:STANDARD
BEGIN:DAYLIGHT
TZOFFSETFROM:+0100
TZOFFSETTO:+0200
TZNAME:CEST
DTSTART:20260329T010000
END:DAYLIGHT
BEGIN:STANDARD
TZOFFSETFROM:+0200
TZOFFSETTO:+0100
TZNAME:CET
DTSTART:20261025T010000
END:STANDARD
BEGIN:DAYLIGHT
TZOFFSETFROM:+0100
TZOFFSETTO:+0200
TZNAME:CEST
DTSTART:20270328T010000
END:DAYLIGHT
BEGIN:STANDARD
TZOFFSETFROM:+0200
TZOFFSETTO:+0100
TZNAME:CET
DTSTART:20271031T010000
END:STANDARD
END:VTIMEZONE
BEGIN:VEVENT
DTSTART;TZID=Europe/Berlin:20260420T153000
DTEND;TZID=Europe/Berlin:20260420T173000
DTSTAMP:20260420T024614
CREATED:20260409T034305Z
LAST-MODIFIED:20260409T034305Z
UID:5394-1776699000-1776706200@rumphorstviertel.de
SUMMARY:Kochen mit Hanna
DESCRIPTION:Kostenanteil je nach Rezept.\n\nAnmeldung erforderlich. \n\n\nAnsprechpartner : kerstin.herbst@parea.de
URL:https://rumphorstviertel.de/event/kochen-mit-hanna/
LOCATION:Parea Paulinum Münster-Nord\, Anton Bruchhausen Straße 10\, Münster
ORGANIZER;CN="Parea gGmbH M%C3%BCnster Nord":MAILTO:kerstin.herbst@parea.de und sonja.kuhlbusch@parea.de
END:VEVENT
BEGIN:VEVENT
DTSTART;TZID=Europe/Berlin:20260420T160000
DTEND;TZID=Europe/Berlin:20260420T173000
DTSTAMP:20260420T024614
CREATED:20260409T034206Z
LAST-MODIFIED:20260409T095955Z
UID:5392-1776700800-1776706200@rumphorstviertel.de
SUMMARY:Nadel & Faden
DESCRIPTION:nähen\, stricken\, häkeln\, sticken\, aber auch bei Kaffee und Tee klönen \n\nInfos: kontakt@rumphorstviertel.de
URL:https://rumphorstviertel.de/event/nadel-faden/
LOCATION:Neubaugebiet Südlich Markweg\, 48147
END:VEVENT
BEGIN:VEVENT
DTSTART;TZID=Europe/Berlin:20260420T193000
DTEND;TZID=Europe/Berlin:20260420T213000
DTSTAMP:20260420T024614
CREATED:20260409T034025Z
LAST-MODIFIED:20260409T034025Z
UID:5390-1776713400-1776720600@rumphorstviertel.de
SUMMARY:Kultur und Theaterkreis des Rumphorstviertel
DESCRIPTION:Kultur und Theaterkreis\nKontakt: Birgit Wolsky-Fischer\, 0177 7110878\n\n\n\n\n\n 
URL:https://rumphorstviertel.de/event/kultur-und-theaterkreis-des-rumphorstviertel/
LOCATION:Stadtteiltreff Hoher Heckenweg 81\, Hoher Heckenweg 81\, Münster
END:VEVENT
END:VCALENDAR