BEGIN:VCALENDAR
VERSION:2.0
PRODID:-//Rumphorstviertel e.V. - ECPv6.15.20//NONSGML v1.0//EN
CALSCALE:GREGORIAN
METHOD:PUBLISH
X-ORIGINAL-URL:https://rumphorstviertel.de
X-WR-CALDESC:Veranstaltungen für Rumphorstviertel e.V.
REFRESH-INTERVAL;VALUE=DURATION:PT1H
X-Robots-Tag:noindex
X-PUBLISHED-TTL:PT1H
BEGIN:VTIMEZONE
TZID:Europe/Berlin
BEGIN:DAYLIGHT
TZOFFSETFROM:+0100
TZOFFSETTO:+0200
TZNAME:CEST
DTSTART:20250330T010000
END:DAYLIGHT
BEGIN:STANDARD
TZOFFSETFROM:+0200
TZOFFSETTO:+0100
TZNAME:CET
DTSTART:20251026T010000
END:STANDARD
BEGIN:DAYLIGHT
TZOFFSETFROM:+0100
TZOFFSETTO:+0200
TZNAME:CEST
DTSTART:20260329T010000
END:DAYLIGHT
BEGIN:STANDARD
TZOFFSETFROM:+0200
TZOFFSETTO:+0100
TZNAME:CET
DTSTART:20261025T010000
END:STANDARD
BEGIN:DAYLIGHT
TZOFFSETFROM:+0100
TZOFFSETTO:+0200
TZNAME:CEST
DTSTART:20270328T010000
END:DAYLIGHT
BEGIN:STANDARD
TZOFFSETFROM:+0200
TZOFFSETTO:+0100
TZNAME:CET
DTSTART:20271031T010000
END:STANDARD
END:VTIMEZONE
BEGIN:VEVENT
DTSTART;TZID=Europe/Berlin:20260416T150000
DTEND;TZID=Europe/Berlin:20260416T170000
DTSTAMP:20260419T214247
CREATED:20260409T034615Z
LAST-MODIFIED:20260409T034615Z
UID:5401-1776351600-1776358800@rumphorstviertel.de
SUMMARY:Karten- und Schachclub
DESCRIPTION:
URL:https://rumphorstviertel.de/event/karten-und-schachclub/
LOCATION:Parea Paulinum Münster-Nord\, Anton Bruchhausen Straße 10\, Münster
ORGANIZER;CN="Parea gGmbH M%C3%BCnster Nord":MAILTO:kerstin.herbst@parea.de und sonja.kuhlbusch@parea.de
END:VEVENT
BEGIN:VEVENT
DTSTART;TZID=Europe/Berlin:20260416T180000
DTEND;TZID=Europe/Berlin:20260416T200000
DTSTAMP:20260419T214247
CREATED:20260409T034532Z
LAST-MODIFIED:20260409T034532Z
UID:5399-1776362400-1776369600@rumphorstviertel.de
SUMMARY:Stammtisch des Rumphorstviertel e.V.
DESCRIPTION:austauschen\, klönen und kennenlernen bei lekker Kaltgetränk und Pommes
URL:https://rumphorstviertel.de/event/stammtisch-des-rumphorstviertel-e-v/
LOCATION:Casis Kling Klang\, Staufenplatz\, Münster
END:VEVENT
END:VCALENDAR